BEGIN:VCALENDAR
VERSION:2.0
PRODID:-//S:FLEX GmbH - ECPv6.15.20//NONSGML v1.0//EN
CALSCALE:GREGORIAN
METHOD:PUBLISH
X-ORIGINAL-URL:https://www.sflex.de
X-WR-CALDESC:Veranstaltungen für S:FLEX GmbH
REFRESH-INTERVAL;VALUE=DURATION:PT1H
X-Robots-Tag:noindex
X-PUBLISHED-TTL:PT1H
BEGIN:VTIMEZONE
TZID:Europe/Berlin
BEGIN:DAYLIGHT
TZOFFSETFROM:+0100
TZOFFSETTO:+0200
TZNAME:CEST
DTSTART:20250330T010000
END:DAYLIGHT
BEGIN:STANDARD
TZOFFSETFROM:+0200
TZOFFSETTO:+0100
TZNAME:CET
DTSTART:20251026T010000
END:STANDARD
BEGIN:DAYLIGHT
TZOFFSETFROM:+0100
TZOFFSETTO:+0200
TZNAME:CEST
DTSTART:20260329T010000
END:DAYLIGHT
BEGIN:STANDARD
TZOFFSETFROM:+0200
TZOFFSETTO:+0100
TZNAME:CET
DTSTART:20261025T010000
END:STANDARD
BEGIN:DAYLIGHT
TZOFFSETFROM:+0100
TZOFFSETTO:+0200
TZNAME:CEST
DTSTART:20270328T010000
END:DAYLIGHT
BEGIN:STANDARD
TZOFFSETFROM:+0200
TZOFFSETTO:+0100
TZNAME:CET
DTSTART:20271031T010000
END:STANDARD
END:VTIMEZONE
BEGIN:VEVENT
DTSTART;TZID=Europe/Berlin:20260611T090000
DTEND;TZID=Europe/Berlin:20260611T130000
DTSTAMP:20260425T221649
CREATED:20260401T132907Z
LAST-MODIFIED:20260401T132907Z
UID:10950-1781168400-1781182800@www.sflex.de
SUMMARY:Photovoltaik Schulung im Juni - 11.06.26
DESCRIPTION:Die Photovoltaikpflicht bringt neue Anforderungen für alle Akteure in der Energie- und Baubranche mit – und eröffnet zugleich neue Chancen im Geschäft mit Solardächern. Als regionaler Partner möchten wir Sie dabei unterstützen und laden Sie herzlich zu unserem Schulungstag in Bad Krozingen ein. \nKompaktes Wissen - Darum lohnt sich der Vormittag bei uns\n✅ PV-Planungstool live erleben Schräg- & Flachdach\, Statik\, Kalkulation – Angebote in Minuten erstellen \n✅Hands-On Produktvorstellungen Montagesysteme sehen und verstehen \n✅ All-in-One Service kennenlernen Planung\, Angebote\, Stücklisten\, Bestellung – Lieferung oder Abholung direkt ab Lager. \n\nIhr Mehrwert\nLernen Sie\, wie Sie PV-Projekte einfacher planen\, Montagesysteme praktisch einsetzen und jederzeit auf technischen Support aus der Region zählen können.\nSie machen Ihr Team fit für PV-Projekte – praxisnah\, kompakt und mit einem Partner an Ihrer Seite\, auf den Sie bauen können. \n\nRahmenbedingungen\n\nTeilnahme kostenfrei & unverbindlich (max 20 Teilnehmer pro Schulung)\nFür Verpflegung ist gesorgt\nAnmeldung erforderlich\n\n 
URL:https://www.sflex.de/event/photovoltaik-schulung-im-juni-11-06-26/
LOCATION:S:FLEX Bad Krozingen\, Elsäßer Straße 12\, Bad Krozingen\, Baden-Württemberg\, 79189\, Germany
CATEGORIES:Schulungen
ATTACH;FMTTYPE=image/jpeg:https://www.sflex.de/wp-content/uploads/sflex_kategorie_Schulungen.jpg
ORGANIZER;CN="S%3AFLEX":MAILTO:schulungen@sflex.de
END:VEVENT
BEGIN:VEVENT
DTSTART;VALUE=DATE:20260619
DTEND;VALUE=DATE:20260620
DTSTAMP:20260425T221649
CREATED:20260408T093514Z
LAST-MODIFIED:20260408T094758Z
UID:10988-1781827200-1781913599@www.sflex.de
SUMMARY:EGH Elektrogoßhandel Sommerfest
DESCRIPTION:
URL:https://www.sflex.de/event/sommerfest-in-freiberg/
LOCATION:EGH Freiberg\, Am Junger Löwe Schacht 8\, 09599\, Germany
CATEGORIES:Messen
ATTACH;FMTTYPE=image/jpeg:https://www.sflex.de/wp-content/uploads/sflex_kategorie_Veranstaltungen.jpg
END:VEVENT
END:VCALENDAR